BEGIN:VCALENDAR
VERSION:2.0
PRODID:-//Tukios.com/
BEGIN:VEVENT
UID:ba3e5905-5465-45db-abb3-e2f41f61186f@www.moloneyfh.com
DTSTAMP:20260424T222526Z
DTSTART:20260427T133000Z
DTEND:20260427T160000Z
SUMMARY:Funeral Service
DESCRIPTION:
URL:https://www.moloneyfh.com/obituaries/monica-yanes-alfaro
LOCATION:Bay Shore Spanish Seventh-Day Adventist Church 9 Arizona Ave  
	Bay Shore NY 11706
GEO:40.7650308;-73.260321
END:VEVENT
END:VCALENDAR