BEGIN:VCALENDAR
VERSION:2.0
PRODID:-//Tukios.com/
BEGIN:VEVENT
UID:a0e90f27-934c-455c-9754-358273fff503@www.moloneyfh.com
DTSTAMP:20260422T001246Z
DTSTART:20260502T120000Z
DTEND:20260502T133000Z
SUMMARY:Visitation
DESCRIPTION:
URL:https://www.moloneyfh.com/obituaries/nicolas-william
LOCATION: 132 Ronkonkoma Ave  Ronkonkoma NY 11779
GEO:40.8256393;-73.1116778
END:VEVENT
END:VCALENDAR