BEGIN:VCALENDAR
VERSION:2.0
PRODID:-//Tukios.com/
BEGIN:VEVENT
UID:df8d8218-2c72-47a5-b948-f8bb4c59a342@www.moloneyfh.com
DTSTAMP:20260422T000710Z
DTSTART:20260502T140000Z
DTEND:20260502T150000Z
SUMMARY:Funeral Mass
DESCRIPTION:
URL:https://www.moloneyfh.com/obituaries/nicolas-william
LOCATION: 45 Church Street  Ronkonkoma NY 11779
GEO:40.8176394;-73.1162453
END:VEVENT
END:VCALENDAR