BEGIN:VCALENDAR
VERSION:2.0
PRODID:-//Tukios.com/
BEGIN:VEVENT
UID:34e7b095-359d-4fbe-ac5d-97f33741f0da@www.moloneyfh.com
DTSTAMP:20260422T001240Z
DTSTART:20260502
SUMMARY:Interment
DESCRIPTION:
URL:https://www.moloneyfh.com/obituaries/nicolas-william
LOCATION: 2015 Wellwood Avenue  Farmingdale NY 11735
GEO:40.7359223;-73.4019302
END:VEVENT
END:VCALENDAR