BEGIN:VCALENDAR
VERSION:2.0
PRODID:-//Tukios.com/
BEGIN:VEVENT
UID:6b1df0cd-5262-4248-9cbd-23087cefd975@www.moloneyfh.com
DTSTAMP:20260421T223643Z
DTSTART:20260424T220000Z
DTEND:20260424T230000Z
SUMMARY:Visitation
DESCRIPTION:
URL:https://www.moloneyfh.com/obituaries/patrick-mcdonald
LOCATION: 130 Carleton Ave  Central Islip NY 11722
GEO:40.78245;-73.1999832
END:VEVENT
END:VCALENDAR