BEGIN:VCALENDAR
VERSION:2.0
PRODID:-//Tukios.com/
BEGIN:VEVENT
UID:8d63151f-df35-4034-b62c-231b1c7f5b9a@www.moloneyfh.com
DTSTAMP:20260421T223627Z
DTSTART:20260425T144500Z
DTEND:20260425T154500Z
SUMMARY:Mass
DESCRIPTION:
URL:https://www.moloneyfh.com/obituaries/patrick-mcdonald
LOCATION:St. Frances de Chantal R.C. Church 1309 Wantagh Ave  Wantagh NY 
	11793
GEO:40.6901555;-73.5079537
END:VEVENT
END:VCALENDAR