BEGIN:VCALENDAR
VERSION:2.0
PRODID:-//Tukios.com/
BEGIN:VEVENT
UID:80375088-1939-4603-b05d-56aa4046f060@www.moloneyfh.com
DTSTAMP:20260425T214148Z
DTSTART:20260428T180000Z
DTEND:20260428T200000Z
SUMMARY:Visitation
DESCRIPTION:
URL:https://www.moloneyfh.com/obituaries/priscilla-rose
LOCATION: 132 Ronkonkoma Ave  Ronkonkoma NY 11779
GEO:40.8256393;-73.1116778
END:VEVENT
END:VCALENDAR