BEGIN:VCALENDAR
VERSION:2.0
PRODID:-//Tukios.com/
BEGIN:VEVENT
UID:f7ec7bfd-bd66-496c-9f23-e4ead73e9f48@www.moloneyfh.com
DTSTAMP:20260425T214137Z
DTSTART:20260429
SUMMARY:Interment
DESCRIPTION:
URL:https://www.moloneyfh.com/obituaries/priscilla-rose
LOCATION: 210 Princeton Blvd  Wading River NY 11792
GEO:40.9243528;-72.8170011
END:VEVENT
END:VCALENDAR